BEGIN:VCALENDAR
VERSION:2.0
PRODID:-//Hollywomen - ECPv6.11.2.1//NONSGML v1.0//EN
CALSCALE:GREGORIAN
METHOD:PUBLISH
X-WR-CALNAME:Hollywomen
X-ORIGINAL-URL:https://hollywomen.com
X-WR-CALDESC:Events for Hollywomen
REFRESH-INTERVAL;VALUE=DURATION:PT1H
X-Robots-Tag:noindex
X-PUBLISHED-TTL:PT1H
BEGIN:VTIMEZONE
TZID:America/Los_Angeles
BEGIN:DAYLIGHT
TZOFFSETFROM:-0800
TZOFFSETTO:-0700
TZNAME:PDT
DTSTART:20160313T100000
END:DAYLIGHT
BEGIN:STANDARD
TZOFFSETFROM:-0700
TZOFFSETTO:-0800
TZNAME:PST
DTSTART:20161106T090000
END:STANDARD
END:VTIMEZONE
BEGIN:VEVENT
DTSTART;VALUE=DATE:20160427
DTEND;VALUE=DATE:20160428
DTSTAMP:20260424T042832
CREATED:20160409T131107Z
LAST-MODIFIED:20160409T131325Z
UID:4485-1461715200-1461801599@hollywomen.com
SUMMARY:Walk with Me (French release) directed by Lisa Ohlin
DESCRIPTION:https://www.youtube.com/watch?v=TZ0oy1ls–o \nDeployed on mission in Helmand\, Afghanistan 25-year old Thomas steps on a landmine and loses both his legs. At the local rehabilitation center he meets Sofie\, an ascending ballerina from the Royal Danish Ballet\, who is helping a relative to regain strength after a long term sickness. Thomas desperately wants back in the field and gets impatient as progress does not emerge as fast as he wants to. When Sofie offers to help him with a more intense rehabilitation plan\, he accepts. Despite their differences\, they develop a special bond and a mutual affection. \nWalk with Me (“De Standhaftige” – Denmark)\nFrench theatrical release: April 27\, 2016\nDanish theatrical release: April 7\, 2016 \nDirector: Lisa Ohlin\nWriter: Karina Dam\nStars: Dar Salim\, Mikkel Boe Følsgaard\, Morten Kirkskov
URL:https://hollywomen.com/cal/walk-french-release/
CATEGORIES:Films Directed By Women
END:VEVENT
END:VCALENDAR