BEGIN:VCALENDAR
VERSION:2.0
PRODID:-//Hollywomen - ECPv6.11.2.1//NONSGML v1.0//EN
CALSCALE:GREGORIAN
METHOD:PUBLISH
X-WR-CALNAME:Hollywomen
X-ORIGINAL-URL:https://hollywomen.com
X-WR-CALDESC:Events for Hollywomen
REFRESH-INTERVAL;VALUE=DURATION:PT1H
X-Robots-Tag:noindex
X-PUBLISHED-TTL:PT1H
BEGIN:VTIMEZONE
TZID:America/Los_Angeles
BEGIN:DAYLIGHT
TZOFFSETFROM:-0800
TZOFFSETTO:-0700
TZNAME:PDT
DTSTART:20160313T100000
END:DAYLIGHT
BEGIN:STANDARD
TZOFFSETFROM:-0700
TZOFFSETTO:-0800
TZNAME:PST
DTSTART:20161106T090000
END:STANDARD
END:VTIMEZONE
BEGIN:VEVENT
DTSTART;VALUE=DATE:20160429
DTEND;VALUE=DATE:20160430
DTSTAMP:20260425T054803
CREATED:20160403T221507Z
LAST-MODIFIED:20160403T222632Z
UID:4477-1461888000-1461974399@hollywomen.com
SUMMARY:Ratchet and Clank -US Release) co-directed by Jericca Cleland
DESCRIPTION:Ratchet and Clank tells the story of two unlikely heroes as they struggle to stop a vile alien named Chairman Drek from destroying every planet in the Solana Galaxy. When the two stumble upon a dangerous weapon capable of destroying entire planets\, they must join forces with a team of colorful heroes called The Galactic Rangers in order to save the galaxy. Along the way they’ll learn about heroism\, friendship\, and the importance of discovering one’s own identity. \nRatchet and Clank\nAnimation\, Action\, Adventure\n29 April 2016 (USA) \nDirectors: Jericca Cleland (Animism\, DP for Space Chimps)\, Kevin Munroe\nWriter: T.J. Fixman (as Todd Fixman)
URL:https://hollywomen.com/cal/ratchet-clank-jericca-cleland/
CATEGORIES:Films Directed By Women
END:VEVENT
END:VCALENDAR