BEGIN:VCALENDAR
VERSION:2.0
PRODID:-//Hollywomen - ECPv6.11.2.1//NONSGML v1.0//EN
CALSCALE:GREGORIAN
METHOD:PUBLISH
X-ORIGINAL-URL:https://hollywomen.com
X-WR-CALDESC:Events for Hollywomen
REFRESH-INTERVAL;VALUE=DURATION:PT1H
X-Robots-Tag:noindex
X-PUBLISHED-TTL:PT1H
BEGIN:VTIMEZONE
TZID:America/Los_Angeles
BEGIN:DAYLIGHT
TZOFFSETFROM:-0800
TZOFFSETTO:-0700
TZNAME:PDT
DTSTART:20160313T100000
END:DAYLIGHT
BEGIN:STANDARD
TZOFFSETFROM:-0700
TZOFFSETTO:-0800
TZNAME:PST
DTSTART:20161106T090000
END:STANDARD
END:VTIMEZONE
BEGIN:VEVENT
DTSTART;VALUE=DATE:20161209
DTEND;VALUE=DATE:20161210
DTSTAMP:20260423T131851
CREATED:20160409T200309Z
LAST-MODIFIED:20160610T182320Z
UID:4500-1481241600-1481327999@hollywomen.com
SUMMARY:The Bye-Bye Man - Directed by Stacy Title
DESCRIPTION:People commit unthinkable acts every day. Time and again\, we grapple to understand what drives a person to do such terrible things. But what if all of the questions we’re asking are wrong? What if the source of all evil is not a matter of what…but who? \nWhen three college friends stumble upon the horrific origins of the Bye Bye Man\, they discover that there is only one way to avoid his curse: don’t think it\, don’t say it. But once the Bye Bye Man gets inside your head\, he takes control. Is there a way to survive his possession? \nThe Bye Bye Man\nHorror\, Thriller\nUS Release: December 9\, 2016 \nDirected by Stacy Title (The Last Supper)\nWritten by Jonathan Penner based on the short story by Robert Damon Schneck\nStarring Doug Jones\, Carrie-Anne Moss\, Michael Trucco \n Find Stacy Title on the Hollywomen Directors Board\n 
URL:https://hollywomen.com/cal/bye-bye-man-stacy-title/
CATEGORIES:Films Directed By Women
END:VEVENT
END:VCALENDAR