BEGIN:VCALENDAR
VERSION:2.0
PRODID:-//Hollywomen - ECPv6.11.2.1//NONSGML v1.0//EN
CALSCALE:GREGORIAN
METHOD:PUBLISH
X-ORIGINAL-URL:https://hollywomen.com
X-WR-CALDESC:Events for Hollywomen
REFRESH-INTERVAL;VALUE=DURATION:PT1H
X-Robots-Tag:noindex
X-PUBLISHED-TTL:PT1H
BEGIN:VTIMEZONE
TZID:America/Los_Angeles
BEGIN:DAYLIGHT
TZOFFSETFROM:-0800
TZOFFSETTO:-0700
TZNAME:PDT
DTSTART:20170312T100000
END:DAYLIGHT
BEGIN:STANDARD
TZOFFSETFROM:-0700
TZOFFSETTO:-0800
TZNAME:PST
DTSTART:20171105T090000
END:STANDARD
END:VTIMEZONE
BEGIN:VEVENT
DTSTART;VALUE=DATE:20170804
DTEND;VALUE=DATE:20170805
DTSTAMP:20260422T161907
CREATED:20160410T132603Z
LAST-MODIFIED:20160410T132603Z
UID:4510-1501804800-1501891199@hollywomen.com
SUMMARY:Pitch Perfect 3 (US Release) Directed by Elizabeth Banks
DESCRIPTION:Pitch Perfect 3\nComedy\n4 August 2017 \nDirector: Elizabeth Banks\nWriter: Kay Cannon\nStars: Hailee Steinfeld\, Elizabeth Banks\, Anna Kendrick
URL:https://hollywomen.com/cal/pitch-perfect-3/
CATEGORIES:Films Directed By Women
END:VEVENT
END:VCALENDAR